BEGIN:VCALENDAR
VERSION:2.0
PRODID:-//Plone.org//NONSGML plone.app.event//EN
X-WR-TIMEZONE:Brazil/East
BEGIN:VEVENT
SUMMARY:10ª Sessão Ordinária de 2022
DTSTART;TZID=Brazil/East;VALUE=DATE-TIME:20220620T200000
DTEND;TZID=Brazil/East;VALUE=DATE-TIME:20220620T223000
DTSTAMP;VALUE=DATE-TIME:20260421T084644Z
UID:cb03709227cd4fdb81454f76a32debf4@www.parapua.sp.leg.br
CREATED;VALUE=DATE-TIME:20211206T180826Z
LAST-MODIFIED;VALUE=DATE-TIME:20211206T180829Z
URL:https://www.parapua.sp.leg.br/institucional/eventos/10a-sessao-ordinar
 ia-de-2022
END:VEVENT
BEGIN:VTIMEZONE
TZID:Brazil/East
X-LIC-LOCATION:Brazil/East
BEGIN:STANDARD
DTSTART;VALUE=DATE-TIME:20220219T230000
TZNAME:BRT
TZOFFSETFROM:-0200
TZOFFSETTO:-0300
END:STANDARD
END:VTIMEZONE
END:VCALENDAR
