BEGIN:VCALENDAR
VERSION:2.0
PRODID:-//Plone.org//NONSGML plone.app.event//EN
X-WR-TIMEZONE:Brazil/East
BEGIN:VEVENT
SUMMARY:11ª Sessão Ordinária de 2022
DTSTART;TZID=Brazil/East;VALUE=DATE-TIME:20220801T200000
DTEND;TZID=Brazil/East;VALUE=DATE-TIME:20220801T223000
DTSTAMP;VALUE=DATE-TIME:20260423T200512Z
UID:538a04df1a6546e1abf5391959f9bf69@www.parapua.sp.leg.br
CREATED;VALUE=DATE-TIME:20211206T181140Z
LAST-MODIFIED;VALUE=DATE-TIME:20211206T181143Z
URL:https://www.parapua.sp.leg.br/institucional/eventos/11a-sessao-ordinar
 ia-de-2022
END:VEVENT
BEGIN:VTIMEZONE
TZID:Brazil/East
X-LIC-LOCATION:Brazil/East
BEGIN:STANDARD
DTSTART;VALUE=DATE-TIME:20220219T230000
TZNAME:BRT
TZOFFSETFROM:-0200
TZOFFSETTO:-0300
END:STANDARD
END:VTIMEZONE
END:VCALENDAR
