BEGIN:VCALENDAR
VERSION:2.0
PRODID:-//Plone.org//NONSGML plone.app.event//EN
X-WR-TIMEZONE:Brazil/East
BEGIN:VEVENT
SUMMARY:12ª Sessão Ordinária de 2022
DTSTART;TZID=Brazil/East;VALUE=DATE-TIME:20220815T200000
DTEND;TZID=Brazil/East;VALUE=DATE-TIME:20220815T223000
DTSTAMP;VALUE=DATE-TIME:20260420T174951Z
UID:511c9f66fb074f34929764685dcb9aad@www.parapua.sp.leg.br
CREATED;VALUE=DATE-TIME:20211206T181213Z
LAST-MODIFIED;VALUE=DATE-TIME:20211206T181215Z
URL:https://www.parapua.sp.leg.br/institucional/eventos/12a-sessao-ordinar
 ia-de-2022
END:VEVENT
BEGIN:VTIMEZONE
TZID:Brazil/East
X-LIC-LOCATION:Brazil/East
BEGIN:STANDARD
DTSTART;VALUE=DATE-TIME:20220219T230000
TZNAME:BRT
TZOFFSETFROM:-0200
TZOFFSETTO:-0300
END:STANDARD
END:VTIMEZONE
END:VCALENDAR
