BEGIN:VCALENDAR
VERSION:2.0
PRODID:-//Plone.org//NONSGML plone.app.event//EN
X-WR-TIMEZONE:Brazil/East
BEGIN:VEVENT
SUMMARY:13ª Sessão Ordinária
DTSTART;TZID=Brazil/East;VALUE=DATE-TIME:20240902T200000
DTEND;TZID=Brazil/East;VALUE=DATE-TIME:20240902T220000
DTSTAMP;VALUE=DATE-TIME:20260420T203835Z
UID:e421954442ec493ebe0c5314e037a150@www.parapua.sp.leg.br
CONTACT:https://www.parapua.sp.leg.br/processo-legislativo/sessoes-ordinar
 ias/2024
CREATED;VALUE=DATE-TIME:20240705T184426Z
LAST-MODIFIED;VALUE=DATE-TIME:20240705T184429Z
URL:https://www.parapua.sp.leg.br/institucional/eventos/13a-sessao-ordinar
 ia
END:VEVENT
BEGIN:VTIMEZONE
TZID:Brazil/East
X-LIC-LOCATION:Brazil/East
BEGIN:STANDARD
DTSTART;VALUE=DATE-TIME:20240217T230000
TZNAME:BRT
TZOFFSETFROM:-0200
TZOFFSETTO:-0300
END:STANDARD
END:VTIMEZONE
END:VCALENDAR
