BEGIN:VCALENDAR
VERSION:2.0
PRODID:-//Plone.org//NONSGML plone.app.event//EN
X-WR-TIMEZONE:Brazil/East
BEGIN:VEVENT
SUMMARY:19ª Sessão Ordinária
DTSTART;TZID=Brazil/East;VALUE=DATE-TIME:20241202T200000
DTEND;TZID=Brazil/East;VALUE=DATE-TIME:20241202T220000
DTSTAMP;VALUE=DATE-TIME:20260420T235802Z
UID:f02055fcbc91474b8bb66710e008a9db@www.parapua.sp.leg.br
CONTACT:https://www.parapua.sp.leg.br/processo-legislativo/sessoes-ordinar
 ias/2024
CREATED;VALUE=DATE-TIME:20240705T184728Z
LAST-MODIFIED;VALUE=DATE-TIME:20240705T184731Z
URL:https://www.parapua.sp.leg.br/institucional/eventos/19a-sessao-ordinar
 ia
END:VEVENT
BEGIN:VTIMEZONE
TZID:Brazil/East
X-LIC-LOCATION:Brazil/East
BEGIN:DAYLIGHT
DTSTART;VALUE=DATE-TIME:20241020T010000
TZNAME:BRST
TZOFFSETFROM:-0300
TZOFFSETTO:-0200
END:DAYLIGHT
END:VTIMEZONE
END:VCALENDAR
