BEGIN:VCALENDAR
VERSION:2.0
PRODID:-//Plone.org//NONSGML plone.app.event//EN
X-WR-TIMEZONE:Brazil/East
BEGIN:VEVENT
SUMMARY:3ª Sessão Ordinária de 2022
DTSTART;TZID=Brazil/East;VALUE=DATE-TIME:20220307T200000
DTEND;TZID=Brazil/East;VALUE=DATE-TIME:20220307T223000
DTSTAMP;VALUE=DATE-TIME:20260421T071441Z
UID:1a11818fbaf64bfba67d9b816273da44@www.parapua.sp.leg.br
CREATED;VALUE=DATE-TIME:20211206T180416Z
LAST-MODIFIED;VALUE=DATE-TIME:20211206T180418Z
URL:https://www.parapua.sp.leg.br/institucional/eventos/3a-sessao-ordinari
 a-de-2022
END:VEVENT
BEGIN:VTIMEZONE
TZID:Brazil/East
X-LIC-LOCATION:Brazil/East
BEGIN:STANDARD
DTSTART;VALUE=DATE-TIME:20220219T230000
TZNAME:BRT
TZOFFSETFROM:-0200
TZOFFSETTO:-0300
END:STANDARD
END:VTIMEZONE
END:VCALENDAR
