BEGIN:VCALENDAR
VERSION:2.0
PRODID:-//Plone.org//NONSGML plone.app.event//EN
X-WR-TIMEZONE:Brazil/East
BEGIN:VEVENT
SUMMARY:7ª Sessão Ordinária de 2022
DTSTART;TZID=Brazil/East;VALUE=DATE-TIME:20220502T200000
DTEND;TZID=Brazil/East;VALUE=DATE-TIME:20220502T223000
DTSTAMP;VALUE=DATE-TIME:20260421T070656Z
UID:edf6963e808d46599fe3f3a6f7c3fa59@www.parapua.sp.leg.br
CREATED;VALUE=DATE-TIME:20211206T180641Z
LAST-MODIFIED;VALUE=DATE-TIME:20211206T181010Z
URL:https://www.parapua.sp.leg.br/institucional/eventos/7a-sessao-ordinari
 a-de-2022
END:VEVENT
BEGIN:VTIMEZONE
TZID:Brazil/East
X-LIC-LOCATION:Brazil/East
BEGIN:STANDARD
DTSTART;VALUE=DATE-TIME:20220219T230000
TZNAME:BRT
TZOFFSETFROM:-0200
TZOFFSETTO:-0300
END:STANDARD
END:VTIMEZONE
END:VCALENDAR
