BEGIN:VCALENDAR
VERSION:2.0
PRODID:-//Plone.org//NONSGML plone.app.event//EN
X-WR-TIMEZONE:Brazil/East
BEGIN:VEVENT
SUMMARY:9ª Sessão Ordinária de 2022
DTSTART;TZID=Brazil/East;VALUE=DATE-TIME:20220606T200000
DTEND;TZID=Brazil/East;VALUE=DATE-TIME:20220606T223000
DTSTAMP;VALUE=DATE-TIME:20260423T200512Z
UID:27b2605bd9e042459a3560abde9266b4@www.parapua.sp.leg.br
CREATED;VALUE=DATE-TIME:20211206T180748Z
LAST-MODIFIED;VALUE=DATE-TIME:20211206T180750Z
URL:https://www.parapua.sp.leg.br/institucional/eventos/9a-sessao-ordinari
 a-de-2022
END:VEVENT
BEGIN:VTIMEZONE
TZID:Brazil/East
X-LIC-LOCATION:Brazil/East
BEGIN:STANDARD
DTSTART;VALUE=DATE-TIME:20220219T230000
TZNAME:BRT
TZOFFSETFROM:-0200
TZOFFSETTO:-0300
END:STANDARD
END:VTIMEZONE
END:VCALENDAR
