BEGIN:VCALENDAR
VERSION:2.0
PRODID:-//Plone.org//NONSGML plone.app.event//EN
X-WR-TIMEZONE:Brazil/East
BEGIN:VEVENT
SUMMARY:Sessão Ordinária
DTSTART;TZID=Brazil/East;VALUE=DATE-TIME:20180305T200000
DTEND;TZID=Brazil/East;VALUE=DATE-TIME:20180305T220000
DTSTAMP;VALUE=DATE-TIME:20260420T235659Z
UID:215c2234c5ec423288cfd241d753d3af@www.parapua.sp.leg.br
CREATED;VALUE=DATE-TIME:20180108T124818Z
LAST-MODIFIED;VALUE=DATE-TIME:20180108T124823Z
LOCATION:Sala das Sessões "Raul Cassebe" da Câmara Municipal de Parapuã
 \, na Av. São Paulo\, nº 1113
URL:https://www.parapua.sp.leg.br/institucional/eventos/sessao-ordinaria-1
 1
END:VEVENT
BEGIN:VTIMEZONE
TZID:Brazil/East
X-LIC-LOCATION:Brazil/East
BEGIN:STANDARD
DTSTART;VALUE=DATE-TIME:20180217T230000
TZNAME:BRT
TZOFFSETFROM:-0200
TZOFFSETTO:-0300
END:STANDARD
END:VTIMEZONE
END:VCALENDAR
