BEGIN:VCALENDAR
VERSION:2.0
PRODID:-//Plone.org//NONSGML plone.app.event//EN
X-WR-TIMEZONE:Brazil/East
BEGIN:VEVENT
SUMMARY:Sessão Ordinária
DTSTART;TZID=Brazil/East;VALUE=DATE-TIME:20180319T200000
DTEND;TZID=Brazil/East;VALUE=DATE-TIME:20180319T220000
DTSTAMP;VALUE=DATE-TIME:20260421T084534Z
UID:40a041d157194352805315ba47969968@www.parapua.sp.leg.br
CREATED;VALUE=DATE-TIME:20180108T124850Z
LAST-MODIFIED;VALUE=DATE-TIME:20180108T124854Z
LOCATION:Sala das Sessões "Raul Cassebe" da Câmara Municipal de Parapuã
 \, na Av. São Paulo\, nº 1113
URL:https://www.parapua.sp.leg.br/institucional/eventos/sessao-ordinaria-1
 2
END:VEVENT
BEGIN:VTIMEZONE
TZID:Brazil/East
X-LIC-LOCATION:Brazil/East
BEGIN:STANDARD
DTSTART;VALUE=DATE-TIME:20180217T230000
TZNAME:BRT
TZOFFSETFROM:-0200
TZOFFSETTO:-0300
END:STANDARD
END:VTIMEZONE
END:VCALENDAR
