BEGIN:VCALENDAR
VERSION:2.0
PRODID:-//Plone.org//NONSGML plone.app.event//EN
X-WR-TIMEZONE:Brazil/East
BEGIN:VEVENT
SUMMARY:Sessão Ordinária
DTSTART;TZID=Brazil/East;VALUE=DATE-TIME:20180618T200000
DTEND;TZID=Brazil/East;VALUE=DATE-TIME:20180618T220000
DTSTAMP;VALUE=DATE-TIME:20260421T084534Z
UID:94235b001eae42669ae9abdfc32e8b46@www.parapua.sp.leg.br
CREATED;VALUE=DATE-TIME:20180108T125249Z
LAST-MODIFIED;VALUE=DATE-TIME:20180108T125253Z
LOCATION:Sala das Sessões "Raul Cassebe" da Câmara Municipal de Parapuã
 \, na Av. São Paulo\, nº 1113
URL:https://www.parapua.sp.leg.br/institucional/eventos/sessao-ordinaria-1
 8
END:VEVENT
BEGIN:VTIMEZONE
TZID:Brazil/East
X-LIC-LOCATION:Brazil/East
BEGIN:STANDARD
DTSTART;VALUE=DATE-TIME:20180217T230000
TZNAME:BRT
TZOFFSETFROM:-0200
TZOFFSETTO:-0300
END:STANDARD
END:VTIMEZONE
END:VCALENDAR
