BEGIN:VCALENDAR
VERSION:2.0
PRODID:-//Plone.org//NONSGML plone.app.event//EN
X-WR-TIMEZONE:Brazil/East
BEGIN:VEVENT
SUMMARY:Sessão Ordinária
DTSTART;TZID=Brazil/East;VALUE=DATE-TIME:20181105T200000
DTEND;TZID=Brazil/East;VALUE=DATE-TIME:20181105T220000
DTSTAMP;VALUE=DATE-TIME:20260423T200513Z
UID:4ec094e34f884fe19bb17fcb8de3f56f@www.parapua.sp.leg.br
CREATED;VALUE=DATE-TIME:20180803T122353Z
LAST-MODIFIED;VALUE=DATE-TIME:20180803T122357Z
LOCATION:Sala das Sessões "Raul Cassebe" da Câmara Municipal de Parapuã
 \, na Av. São Paulo\, nº 1113
URL:https://www.parapua.sp.leg.br/institucional/eventos/sessao-ordinaria-2
 5
END:VEVENT
BEGIN:VTIMEZONE
TZID:Brazil/East
X-LIC-LOCATION:Brazil/East
BEGIN:DAYLIGHT
DTSTART;VALUE=DATE-TIME:20181021T010000
TZNAME:BRST
TZOFFSETFROM:-0300
TZOFFSETTO:-0200
END:DAYLIGHT
END:VTIMEZONE
END:VCALENDAR
