BEGIN:VCALENDAR
VERSION:2.0
PRODID:-//Plone.org//NONSGML plone.app.event//EN
X-WR-TIMEZONE:Brazil/East
BEGIN:VEVENT
SUMMARY:Sessão Ordinária
DTSTART;TZID=Brazil/East;VALUE=DATE-TIME:20181203T200000
DTEND;TZID=Brazil/East;VALUE=DATE-TIME:20181203T220000
DTSTAMP;VALUE=DATE-TIME:20260421T071451Z
UID:1acc7b1551cf4592ae6fe71cd76341a4@www.parapua.sp.leg.br
CREATED;VALUE=DATE-TIME:20180803T122519Z
LAST-MODIFIED;VALUE=DATE-TIME:20180803T122523Z
LOCATION:Sala das Sessões "Raul Cassebe" da Câmara Municipal de Parapuã
 \, na Av. São Paulo\, nº 1113
URL:https://www.parapua.sp.leg.br/institucional/eventos/sessao-ordinaria-2
 7
END:VEVENT
BEGIN:VTIMEZONE
TZID:Brazil/East
X-LIC-LOCATION:Brazil/East
BEGIN:DAYLIGHT
DTSTART;VALUE=DATE-TIME:20181021T010000
TZNAME:BRST
TZOFFSETFROM:-0300
TZOFFSETTO:-0200
END:DAYLIGHT
END:VTIMEZONE
END:VCALENDAR
