BEGIN:VCALENDAR
VERSION:2.0
PRODID:-//Plone.org//NONSGML plone.app.event//EN
X-WR-TIMEZONE:Brazil/East
BEGIN:VEVENT
SUMMARY:Sessão Ordinária
DTSTART;TZID=Brazil/East;VALUE=DATE-TIME:20200203T200000
DTEND;TZID=Brazil/East;VALUE=DATE-TIME:20200203T235900
DTSTAMP;VALUE=DATE-TIME:20260423T200428Z
UID:7383e0fcaf63492bb36e942c98734e95@www.parapua.sp.leg.br
CREATED;VALUE=DATE-TIME:20191219T183759Z
LAST-MODIFIED;VALUE=DATE-TIME:20191219T183828Z
LOCATION:Sala das Sessões "Raul Cassebe" da Câmara Municipal de Parapuã
 \, na Av. São Paulo\, nº 1113
URL:https://www.parapua.sp.leg.br/institucional/eventos/sessao-ordinaria-2
 8
END:VEVENT
BEGIN:VTIMEZONE
TZID:Brazil/East
X-LIC-LOCATION:Brazil/East
BEGIN:DAYLIGHT
DTSTART;VALUE=DATE-TIME:20191020T010000
TZNAME:BRST
TZOFFSETFROM:-0300
TZOFFSETTO:-0200
END:DAYLIGHT
END:VTIMEZONE
END:VCALENDAR
