BEGIN:VCALENDAR
VERSION:2.0
PRODID:-//Plone.org//NONSGML plone.app.event//EN
X-WR-TIMEZONE:Brazil/East
BEGIN:VEVENT
SUMMARY:Sessão Ordinária
DTSTART;TZID=Brazil/East;VALUE=DATE-TIME:20170918T200000
DTSTAMP;VALUE=DATE-TIME:20260421T071453Z
UID:845c1d51e5634afba52e8cf857d34405@www.parapua.sp.leg.br
CREATED;VALUE=DATE-TIME:20170705T112640Z
DESCRIPTION:14ª Sessão Ordinária de 2017 da 17ª Legislatura\, em 18 de
  setembro de 2017 às 20h
LAST-MODIFIED;VALUE=DATE-TIME:20170705T112648Z
URL:https://www.parapua.sp.leg.br/institucional/eventos/sessao-ordinaria-3
END:VEVENT
BEGIN:VTIMEZONE
TZID:Brazil/East
X-LIC-LOCATION:Brazil/East
BEGIN:STANDARD
DTSTART;VALUE=DATE-TIME:20170218T230000
TZNAME:BRT
TZOFFSETFROM:-0200
TZOFFSETTO:-0300
END:STANDARD
END:VTIMEZONE
END:VCALENDAR
