BEGIN:VCALENDAR
VERSION:2.0
PRODID:-//Plone.org//NONSGML plone.app.event//EN
X-WR-TIMEZONE:Brazil/East
BEGIN:VEVENT
SUMMARY:Sessão Ordinária
DTSTART;TZID=Brazil/East;VALUE=DATE-TIME:20201207T200000
DTEND;TZID=Brazil/East;VALUE=DATE-TIME:20201207T235900
DTSTAMP;VALUE=DATE-TIME:20260423T200428Z
UID:da21a0910be84e6f99583444e584e866@www.parapua.sp.leg.br
CREATED;VALUE=DATE-TIME:20191219T190514Z
LAST-MODIFIED;VALUE=DATE-TIME:20191219T190711Z
LOCATION:Sala das Sessões "Raul Cassebe" da Câmara Municipal de Parapuã
 \, na Av. São Paulo\, nº 1113
URL:https://www.parapua.sp.leg.br/institucional/eventos/sessao-ordinaria-4
 6
END:VEVENT
BEGIN:VTIMEZONE
TZID:Brazil/East
X-LIC-LOCATION:Brazil/East
BEGIN:DAYLIGHT
DTSTART;VALUE=DATE-TIME:20201018T010000
TZNAME:BRST
TZOFFSETFROM:-0300
TZOFFSETTO:-0200
END:DAYLIGHT
END:VTIMEZONE
END:VCALENDAR
