BEGIN:VCALENDAR
VERSION:2.0
PRODID:-//Plone.org//NONSGML plone.app.event//EN
X-WR-TIMEZONE:Brazil/East
BEGIN:VEVENT
SUMMARY:Sessão Ordinária
DTSTART;TZID=Brazil/East;VALUE=DATE-TIME:20170807T200000
DTSTAMP;VALUE=DATE-TIME:20260421T033146Z
UID:089a9f758e824e9284af8dae1d24e2c0@www.parapua.sp.leg.br
CREATED;VALUE=DATE-TIME:20170705T104430Z
DESCRIPTION:11ª Sessão Ordinária de 2017 da 17ª Legislatura\, em 7 de 
 agosto de 2017 às 20h
LAST-MODIFIED;VALUE=DATE-TIME:20170705T112345Z
LOCATION:Câmara Municipal de Parapuã
URL:https://www.parapua.sp.leg.br/institucional/eventos/sessao-ordinaria
END:VEVENT
BEGIN:VTIMEZONE
TZID:Brazil/East
X-LIC-LOCATION:Brazil/East
BEGIN:STANDARD
DTSTART;VALUE=DATE-TIME:20170218T230000
TZNAME:BRT
TZOFFSETFROM:-0200
TZOFFSETTO:-0300
END:STANDARD
END:VTIMEZONE
END:VCALENDAR
